BEGIN:VCALENDAR
VERSION:2.0
PRODID:-//Entertainment Films//release-reminder//EN
BEGIN:VEVENT
UID:ue3l@http://www.tulipfevermovie.co.uk
SEQUENCE:0
DTSTAMP:20181205T155250Z
DTSTART;VALUE=DATE:20181207
DTEND;VALUE=DATE:20181208
X-MICROSOFT-CDO-ALLDAYEVENT:TRUE
X-MICROSOFT-MSNCALENDAR-ALLDAYEVENT:TRUE
SUMMARY:Tulip Fever: Get Tickets
DESCRIPTION:Buy tickets now for Tulip Fever at http://www.tulipfevermovie.
 co.uk
URL;VALUE=URI:http://www.tulipfevermovie.co.uk
END:VEVENT
END:VCALENDAR