BEGIN:VCALENDAR
VERSION:2.0
PRODID:-//eOne//release-reminder//EN
BEGIN:VEVENT
UID:hs6t@http://www.onthebasisofsexfilm.co.uk
SEQUENCE:0
DTSTAMP:20190219T120314Z
DTSTART;VALUE=DATE:20190222
DTEND;VALUE=DATE:20190223
X-MICROSOFT-CDO-ALLDAYEVENT:TRUE
X-MICROSOFT-MSNCALENDAR-ALLDAYEVENT:TRUE
SUMMARY:On The Basis of Sex: Get Tickets
DESCRIPTION:Buy tickets now for On The Basis of Sex at http://www.onthebas
 isofsexfilm.co.uk
URL;VALUE=URI:http://www.onthebasisofsexfilm.co.uk
END:VEVENT
END:VCALENDAR