BEGIN:VCALENDAR
VERSION:2.0
PRODID:-//Sony Pictures//release-reminder//EN
BEGIN:VEVENT
UID:tvn6@http://www.slendermanmovietickets.co.uk
SEQUENCE:0
DTSTAMP:20180821T083038Z
DTSTART;VALUE=DATE:20180824
DTEND;VALUE=DATE:20180825
X-MICROSOFT-CDO-ALLDAYEVENT:TRUE
X-MICROSOFT-MSNCALENDAR-ALLDAYEVENT:TRUE
SUMMARY:Slender Man: Get Tickets
DESCRIPTION:Buy tickets now for Slender Man at http://www.slendermanmoviet
 ickets.co.uk
URL;VALUE=URI:http://www.slendermanmovietickets.co.uk
END:VEVENT
END:VCALENDAR